BEGIN:VCALENDAR
VERSION:2.0
PRODID:-//PYVOBJECT//NONSGML Version 0.9.9//EN
BEGIN:VTIMEZONE
TZID:CET
BEGIN:STANDARD
DTSTART:20001029T040000
RRULE:FREQ=YEARLY;BYDAY=-1SU;BYMONTH=10
TZNAME:CET
TZOFFSETFROM:+0200
TZOFFSETTO:+0100
END:STANDARD
BEGIN:DAYLIGHT
DTSTART:20000326T030000
RRULE:FREQ=YEARLY;BYDAY=-1SU;BYMONTH=3
TZNAME:CEST
TZOFFSETFROM:+0100
TZOFFSETTO:+0200
END:DAYLIGHT
END:VTIMEZONE
BEGIN:VEVENT
UID:event-40
DTSTART;TZID=CET:20251126T180000
DTEND;TZID=CET:20251126T213000
DESCRIPTION:HR-RoundTable in Stuttgart am Mittwoch\, den 26. November um 18
  Uhr - Veranstaltung
DTSTAMP:20260421T085248Z
GEO:60.9665872,13.8971525
LOCATION:\,  Stuttgart
SUMMARY:HR-RoundTable in Stuttgart am Mittwoch\, den 26. November um 18 Uhr
URL:https://hr-roundtable.club/events/40/
END:VEVENT
END:VCALENDAR
