BEGIN:VCALENDAR
VERSION:2.0
PRODID:-//PYVOBJECT//NONSGML Version 0.9.9//EN
BEGIN:VTIMEZONE
TZID:CET
BEGIN:STANDARD
DTSTART:20001029T040000
RRULE:FREQ=YEARLY;BYDAY=-1SU;BYMONTH=10
TZNAME:CET
TZOFFSETFROM:+0200
TZOFFSETTO:+0100
END:STANDARD
BEGIN:DAYLIGHT
DTSTART:20000326T030000
RRULE:FREQ=YEARLY;BYDAY=-1SU;BYMONTH=3
TZNAME:CEST
TZOFFSETFROM:+0100
TZOFFSETTO:+0200
END:DAYLIGHT
END:VTIMEZONE
BEGIN:VEVENT
UID:event-38
DTSTART;TZID=CET:20251124T123000
DTEND;TZID=CET:20251124T131500
DESCRIPTION:Lunch-Break zur "Digitalen Selbstorganisation in HR" - Vortrag
DTSTAMP:20260421T082710Z
LOCATION:
SUMMARY:Lunch-Break zur "Digitalen Selbstorganisation in HR"
URL:https://hr-roundtable.club/events/38/
END:VEVENT
END:VCALENDAR
