BEGIN:VCALENDAR
VERSION:2.0
PRODID:-//PYVOBJECT//NONSGML Version 0.9.9//EN
BEGIN:VTIMEZONE
TZID:CET
BEGIN:STANDARD
DTSTART:20001029T040000
RRULE:FREQ=YEARLY;BYDAY=-1SU;BYMONTH=10
TZNAME:CET
TZOFFSETFROM:+0200
TZOFFSETTO:+0100
END:STANDARD
BEGIN:DAYLIGHT
DTSTART:20000326T030000
RRULE:FREQ=YEARLY;BYDAY=-1SU;BYMONTH=3
TZNAME:CEST
TZOFFSETFROM:+0100
TZOFFSETTO:+0200
END:DAYLIGHT
END:VTIMEZONE
BEGIN:VEVENT
UID:event-19
DTSTART;TZID=CET:20251031T120000
DTEND;TZID=CET:20251031T130000
DESCRIPTION:Lunchbreak: Update zur Umsetzung der Entgelttransparenzrichtlin
 ie - Vortrag
DTSTAMP:20260421T100114Z
GEO:
LOCATION:\,  
SUMMARY:Lunchbreak: Update zur Umsetzung der Entgelttransparenzrichtlinie
URL:https://hr-roundtable.club/events/19/
END:VEVENT
END:VCALENDAR
