BEGIN:VCALENDAR
VERSION:2.0
PRODID:-//PYVOBJECT//NONSGML Version 0.9.9//EN
BEGIN:VTIMEZONE
TZID:CET
BEGIN:STANDARD
DTSTART:20001029T040000
RRULE:FREQ=YEARLY;BYDAY=-1SU;BYMONTH=10
TZNAME:CET
TZOFFSETFROM:+0200
TZOFFSETTO:+0100
END:STANDARD
BEGIN:DAYLIGHT
DTSTART:20000326T030000
RRULE:FREQ=YEARLY;BYDAY=-1SU;BYMONTH=3
TZNAME:CEST
TZOFFSETFROM:+0100
TZOFFSETTO:+0200
END:DAYLIGHT
END:VTIMEZONE
BEGIN:VEVENT
UID:event-18
DTSTART;TZID=CET:20251014T090000
DTEND;TZID=CET:20251014T100000
DESCRIPTION:Breakfast-Break: Urteil des Monats - EugH\, Achtung bei Recruit
 ing und Kommunikation mit potentiellen MA über Soziale Netzwerke\, XING u
 .a. - Schadensersatz DSGVOP vermeiden - Vortrag
DTSTAMP:20260421T100604Z
GEO:
LOCATION:\,  
SUMMARY:Breakfast-Break: Urteil des Monats - EugH\, Achtung bei Recruiting 
 und Kommunikation mit potentiellen MA über Soziale Netzwerke\, XING u.a. 
 - Schadensersatz DSGVOP vermeiden
URL:https://hr-roundtable.club/events/18/
END:VEVENT
END:VCALENDAR
