BEGIN:VCALENDAR
VERSION:2.0
PRODID:-//PYVOBJECT//NONSGML Version 0.9.9//EN
BEGIN:VTIMEZONE
TZID:CET
BEGIN:STANDARD
DTSTART:20001029T040000
RRULE:FREQ=YEARLY;BYDAY=-1SU;BYMONTH=10
TZNAME:CET
TZOFFSETFROM:+0200
TZOFFSETTO:+0100
END:STANDARD
BEGIN:DAYLIGHT
DTSTART:20000326T030000
RRULE:FREQ=YEARLY;BYDAY=-1SU;BYMONTH=3
TZNAME:CEST
TZOFFSETFROM:+0100
TZOFFSETTO:+0200
END:DAYLIGHT
END:VTIMEZONE
BEGIN:VEVENT
UID:event-1
DTSTART;TZID=CET:20250910T173000
DTEND;TZID=CET:20250910T193000
DESCRIPTION:Messeparty auf der Zukunft Personal Europe - Veranstaltung
DTSTAMP:20260421T100813Z
GEO:50.9404627,6.9743799
LOCATION:Messe\,  Köln
SUMMARY:Messeparty auf der Zukunft Personal Europe
URL:https://hr-roundtable.club/events/1/
END:VEVENT
END:VCALENDAR
